BEGIN:VCALENDAR
VERSION:2.0
PRODID:icalendar-ruby
CALSCALE:GREGORIAN
METHOD:PUBLISH
BEGIN:VEVENT
DTSTAMP:20260425T125437Z
UID:6-268984@bandtintlministry.org
DTSTART:20260808T130000Z
DTEND:20260808T150000Z
CLASS:PUBLIC
CREATED:20260425T074132
DESCRIPTION:All event times are in Central Time (CT). Easily convert to you
 r time zone using this tool.\nThese sessions are open to all Urdu/Hindi sp
 eakers. However\, our focus is primarily on Pakistan and India.\nDetails f
 or joining this meeting can be found HERE.
LAST-MODIFIED:20260425T074132
LOCATION:Virtual Online
SUMMARY:Bible Study - Urdu/Hindi
URL;VALUE=URI:https://bandtintlministry.org/events/bible-study-urdu-hindi/2
 026-08-08
ATTACH;FILENAME=Pakistan-01.jpg;FMTTYPE=image/jpeg:https://dq5pwpg1q8ru0.cl
 oudfront.net/2025/12/11/18/26/44/8caa0a03-8e5b-4d0b-b783-bea369d99f0d/Paki
 stan-01.jpg
END:VEVENT
END:VCALENDAR
