BEGIN:VCALENDAR
VERSION:2.0
PRODID:icalendar-ruby
CALSCALE:GREGORIAN
METHOD:PUBLISH
BEGIN:VEVENT
DTSTAMP:20260425T112331Z
UID:7-268942@bandtintlministry.org
DTSTART:20260912T150000Z
DTEND:20260912T170000Z
CLASS:PUBLIC
CREATED:20260424T215834
DESCRIPTION:All event times are in Central Time (CT). Easily convert to you
 r time zone using this tool.\nThese sessions are open to all English speak
 ers. However\, our focus is primarily on Africa.\nDetails for joining this
  meeting can be found HERE.
LAST-MODIFIED:20260424T215834
LOCATION:Virtual Online
SUMMARY:Bible Study - English
URL;VALUE=URI:https://bandtintlministry.org/events/bible-study-english/2026
 -09-12
ATTACH;FILENAME=Kenya-01.jpg;FMTTYPE=image/jpeg:https://dq5pwpg1q8ru0.cloud
 front.net/2025/12/11/18/30/52/3c376c52-638d-4d18-a9d7-384232cfe1d2/Kenya-0
 1.jpg
END:VEVENT
END:VCALENDAR
